BEGIN:VCALENDAR
VERSION:2.0
PRODID:-//ChamberMaster//Event Calendar 2.0//EN
METHOD:PUBLISH
X-PUBLISHED-TTL:P3D
REFRESH-INTERVAL:P3D
CALSCALE:GREGORIAN
BEGIN:VEVENT
DTSTART:20200128T200000Z
DTEND:20200128T213000Z
X-MICROSOFT-CDO-ALLDAYEVENT:FALSE
SUMMARY:Ribbon Cutting for Andres Pina State Farm Agency
DESCRIPTION:Ribbon Cutting ceremony at Andres Pina State Farm Agency\n\nPlease join us to help celebrate our new member and network with other chamber members while building relationships.\n\n\n\n*Exclusive for chamber members
X-ALT-DESC;FMTTYPE=text/html:Ribbon Cutting ceremony at Andres Pina State Farm Agency<br />\nPlease join us to help celebrate our new member and network with other chamber members while building relationships.<br />\n<br />\n*Exclusive for chamber members
LOCATION:Andres Pina State Farm Agency 1709 W. Whittier Blvd. Montebello\, CA 90640
UID:e.1156.3555
SEQUENCE:3
DTSTAMP:20260419T130800Z
URL:https://www.montebellochamber.org/events/details/ribbon-cutting-for-andres-pina-state-farm-agency-3555
END:VEVENT

END:VCALENDAR
