BEGIN:VCALENDAR
VERSION:2.0
PRODID:-//ChamberMaster//Event Calendar 2.0//EN
METHOD:PUBLISH
X-PUBLISHED-TTL:P3D
REFRESH-INTERVAL:P3D
CALSCALE:GREGORIAN
BEGIN:VEVENT
DTSTART:20150717T170000Z
DTEND:20150717T183000Z
X-MICROSOFT-CDO-ALLDAYEVENT:FALSE
SUMMARY:Ribbon Cutting - JC Penney Co. InStyle Salon
DESCRIPTION:Please join us for the Ribbon Cutting Ceremony of\n\nJC Penney Co.\, Inc. Hair Salon\n\n\n\nCome join us and enjoy tasty treats while networking with your fellow chamber members.  The perfect opportunity to exchange business cards\, build relationships and build business.
X-ALT-DESC;FMTTYPE=text/html:Please join us for the Ribbon Cutting Ceremony of<br />\nJC Penney Co.\, Inc. Hair Salon<br />\n<br />\nCome join us and enjoy tasty treats while networking with your fellow chamber members.&nbsp\; The perfect opportunity to exchange business cards\, build relationships and build business.
LOCATION:JC Penney Hair Salon 1600 Montebello Town Center\, Montebello
UID:e.1156.1409
SEQUENCE:3
DTSTAMP:20260419T231520Z
URL:https://www.montebellochamber.org/events/details/ribbon-cutting-jc-penney-co-instyle-salon-07-17-2015-1409
END:VEVENT

END:VCALENDAR
