BEGIN:VCALENDAR
VERSION:2.0
PRODID:-//ChamberMaster//Event Calendar 2.0//EN
METHOD:PUBLISH
X-PUBLISHED-TTL:P3D
REFRESH-INTERVAL:P3D
CALSCALE:GREGORIAN
BEGIN:VEVENT
DTSTART:20180412T190000Z
DTEND:20180412T203000Z
X-MICROSOFT-CDO-ALLDAYEVENT:FALSE
SUMMARY:Ribbon Cutting - Jesse's Party Supplies
DESCRIPTION:Please join us as we celebrate the Ribbon Cutting for Jesse's Party Supplies
X-ALT-DESC;FMTTYPE=text/html:Please join us as we celebrate the Ribbon Cutting for Jesse&#39\;s Party Supplies
LOCATION:801 Washington Blvd. #A Montebello\, CA 90640
UID:e.1156.2493
SEQUENCE:3
DTSTAMP:20260419T143648Z
URL:https://www.montebellochamber.org/events/details/ribbon-cutting-jesse-s-party-supplies-2493
END:VEVENT

END:VCALENDAR
