BEGIN:VCALENDAR
VERSION:2.0
PRODID:-//ChamberMaster//Event Calendar 2.0//EN
METHOD:PUBLISH
X-PUBLISHED-TTL:P3D
REFRESH-INTERVAL:P3D
CALSCALE:GREGORIAN
BEGIN:VEVENT
DTSTART:20181108T200000Z
DTEND:20181108T213000Z
X-MICROSOFT-CDO-ALLDAYEVENT:FALSE
SUMMARY:Ribbon Cutting - Kathleen Anderson Agency Farmers Insurance
DESCRIPTION:Montebello Chamber Members please join us as we welcome and celebrate the Ribbon Cutting of our new member \n\nKathleen Anderson Agency - Farmers Insurance
X-ALT-DESC;FMTTYPE=text/html:Montebello Chamber Members please join us as we welcome and celebrate the Ribbon Cutting of our new member&nbsp\;<br />\nKathleen Anderson Agency - Farmers Insurance
LOCATION:1403 W. Whittier Blvd. Montebello\, CA 90640
UID:e.1156.2864
SEQUENCE:3
DTSTAMP:20260419T143837Z
URL:https://www.montebellochamber.org/events/details/ribbon-cutting-kathleen-anderson-agency-farmers-insurance-2864
END:VEVENT

END:VCALENDAR
