BEGIN:VCALENDAR
VERSION:2.0
PRODID:-//ChamberMaster//Event Calendar 2.0//EN
METHOD:PUBLISH
X-PUBLISHED-TTL:P3D
REFRESH-INTERVAL:P3D
CALSCALE:GREGORIAN
BEGIN:VEVENT
DTSTART:20181120T200000Z
DTEND:20181120T213000Z
X-MICROSOFT-CDO-ALLDAYEVENT:FALSE
SUMMARY:Ribbon Cutting - Kuwaye Dental
DESCRIPTION:Montebello Chamber Members are invited to the Ribbon Cutting ceremony of our newest Chamber member Kuwaye Dental!\n\n\n\nLight refreshments will be served while you mingle with your fellow chamber members.
X-ALT-DESC;FMTTYPE=text/html:Montebello Chamber Members are invited to the Ribbon Cutting ceremony of our newest Chamber member Kuwaye Dental!<br />\n<br />\nLight refreshments will be served while you mingle with your fellow chamber members.
LOCATION:Kuwaye Dental 2533 Via Campo Montebello\, CA 90640
UID:e.1156.2850
SEQUENCE:3
DTSTAMP:20260419T143333Z
URL:https://www.montebellochamber.org/events/details/ribbon-cutting-kuwaye-dental-2850
END:VEVENT

END:VCALENDAR
