BEGIN:VCALENDAR
VERSION:2.0
PRODID:-//ChamberMaster//Event Calendar 2.0//EN
METHOD:PUBLISH
X-PUBLISHED-TTL:P3D
REFRESH-INTERVAL:P3D
CALSCALE:GREGORIAN
BEGIN:VEVENT
DTSTART:20160811T190000Z
DTEND:20160811T203000Z
X-MICROSOFT-CDO-ALLDAYEVENT:FALSE
SUMMARY:Ribbon Cutting - Merchant Wealth Management LLC
DESCRIPTION:Please join us for the Ribbon Cutting Ceremony for \n\nMerchant Wealth Management\, LLC\n\n\n\nStep away for lunch while supporting our newest member and network with your fellow chamber members\, while building new relationships.
X-ALT-DESC;FMTTYPE=text/html:Please join us for the Ribbon Cutting Ceremony for&nbsp\;<br />\nMerchant Wealth Management\, LLC<br />\n<br />\nStep away for lunch while supporting our newest member and network with your fellow chamber members\, while building new relationships.
LOCATION:Merchant Wealth Management\, LLC 3505 W. Beverly Blvd. Montebello\, CA 90640 (cross street Bradshaw & Beverly - next to Taco Village)
UID:e.1156.1498
SEQUENCE:3
DTSTAMP:20260419T185525Z
URL:https://www.montebellochamber.org/events/details/ribbon-cutting-merchant-wealth-management-llc-08-11-2016-1498
END:VEVENT

END:VCALENDAR
