BEGIN:VCALENDAR
VERSION:2.0
PRODID:-//ChamberMaster//Event Calendar 2.0//EN
METHOD:PUBLISH
X-PUBLISHED-TTL:P3D
REFRESH-INTERVAL:P3D
CALSCALE:GREGORIAN
BEGIN:VEVENT
DTSTART:20160722T190000Z
DTEND:20160722T220000Z
X-MICROSOFT-CDO-ALLDAYEVENT:FALSE
SUMMARY:Ribbon Cutting - Metro Pets Spa /K-9 Fit Club.
DESCRIPTION:Ribbon Cutting Ceremony & Grand Opening of\n\nMetro Pet Spa / K-9 Fit Club \n\nThey are the first to offer fitness classes with your dog!  Classes for all fitness levels and abilitites.\n\nThere will be food\, giveaways\, prizes\, games and demonstrations.
X-ALT-DESC;FMTTYPE=text/html:Ribbon Cutting Ceremony &amp\; Grand Opening of<br />\nMetro Pet Spa / K-9 Fit Club&nbsp\;<br />\nThey are the first to offer fitness classes with your dog! &nbsp\;Classes for all fitness levels and abilitites.<br />\nThere will be food\, giveaways\, prizes\, games and demonstrations.<br />\n&nbsp\;
LOCATION:Metro Pet Spa /K-9 Fit Club 2426 W. Whittier Blvd. Montebello\, CA 90640 (877)673-8772
UID:e.1156.1493
SEQUENCE:3
DTSTAMP:20260419T202748Z
URL:https://www.montebellochamber.org/events/details/ribbon-cutting-metro-pets-spa-k-9-fit-club-07-22-2016-1493
END:VEVENT

END:VCALENDAR
