BEGIN:VCALENDAR
VERSION:2.0
PRODID:-//ChamberMaster//Event Calendar 2.0//EN
METHOD:PUBLISH
X-PUBLISHED-TTL:P3D
REFRESH-INTERVAL:P3D
CALSCALE:GREGORIAN
BEGIN:VEVENT
DTSTART:20130131T200000Z
DTEND:20130131T220000Z
X-MICROSOFT-CDO-ALLDAYEVENT:FALSE
SUMMARY:Ribbon Cutting - Montebello Clinica Medica Familliar
DESCRIPTION:Please Join Us For The Ribbon Cutting Ceremony\n\n	of Montebello Clinica Medica Familiar\n\n	\n\n	Step away for lunch and enjoy tasty treats while networking with your fellow chamber members.  The perfect opportunity to exchange business cards\, build relationships and build business.\n\n	RSVP to Salvatrice@montebellochamber.org or 323-721-1153 by January 28th
X-ALT-DESC;FMTTYPE=text/html:<p>\n	<strong>Please Join Us For The <span style="color: rgb(255\, 0\, 0)\;">Ribbon</span> <span style="color: rgb(255\, 0\, 0)\;">Cutting</span> Ceremony<br />\n	of Montebello Clinica Medica Familiar</strong><br />\n	<br />\n	Step away for lunch and enjoy tasty treats while networking with your fellow chamber members.&nbsp\; The perfect opportunity to exchange business cards\, build relationships and build business.</p>\n<p>\n	<strong>RSVP to <a href="mailto:Salvatrice@montebellochamber.org">Salvatrice@montebellochamber.org</a>&nbsp\;or 323-721-1153 by January 28th</strong></p>\n<p>\n	<br />\n	<strong>&nbsp\;&nbsp\;&nbsp\;&nbsp\;</strong><br />\n	&nbsp\;</p>\n
LOCATION:Montebello Clinica Medica Familiar 901 W. Whittier Blvd.\, Montebello\, CA 90640
UID:e.1156.679
SEQUENCE:3
DTSTAMP:20260419T202910Z
URL:https://www.montebellochamber.org/events/details/ribbon-cutting-montebello-clinica-medica-familliar-01-31-2013-679
END:VEVENT

END:VCALENDAR
