BEGIN:VCALENDAR
VERSION:2.0
PRODID:-//ChamberMaster//Event Calendar 2.0//EN
METHOD:PUBLISH
X-PUBLISHED-TTL:P3D
REFRESH-INTERVAL:P3D
CALSCALE:GREGORIAN
BEGIN:VEVENT
DTSTART:20150916T190000Z
DTEND:20150916T190000Z
X-MICROSOFT-CDO-ALLDAYEVENT:FALSE
SUMMARY:Ribbon Cutting - Munguia's Mexican Express
DESCRIPTION:Please join us for a Ribbon Cutting Ceremony for\n\nMunguia's Mexican Express
X-ALT-DESC;FMTTYPE=text/html:Please join us for a <strong><span style="color: rgb(255\, 0\, 0)\;">Ribbon Cutting </span></strong>Ceremony for<br />\n<strong>Munguia&#39\;s Mexican Express</strong><br />\n&nbsp\;
LOCATION:The Shops at Montebello Food Court 1648 Montebello Town Center Drive\, Montebello\, CA 90640
UID:e.1156.1420
SEQUENCE:3
DTSTAMP:20260420T022659Z
URL:https://www.montebellochamber.org/events/details/ribbon-cutting-munguia-s-mexican-express-09-16-2015-1420
END:VEVENT

END:VCALENDAR
