BEGIN:VCALENDAR
VERSION:2.0
PRODID:-//ChamberMaster//Event Calendar 2.0//EN
METHOD:PUBLISH
X-PUBLISHED-TTL:P3D
REFRESH-INTERVAL:P3D
CALSCALE:GREGORIAN
BEGIN:VEVENT
DTSTART:20131018T190000Z
DTEND:20131018T203000Z
X-MICROSOFT-CDO-ALLDAYEVENT:FALSE
SUMMARY:Ribbon Cutting - My Auto Center
DESCRIPTION:Ribbon Cutting at My Auto Center!\n\n\n\nStep away for lunch and enjoy tasty treats while networking with your fellow Chamber Members!  The perfect opportunity to exchange business cards and build relationships and build business.\n\n\n\nRSVP to Jacqueline
X-ALT-DESC;FMTTYPE=text/html:Ribbon Cutting at My Auto Center!<br />\n<br />\nStep away for lunch and enjoy tasty treats while networking with your fellow Chamber Members!&nbsp\; The perfect opportunity to exchange business cards and build relationships and build business.<br />\n<br />\nRSVP to Jacqueline
LOCATION:My Auto Center 255 E. Whittier Blvd. Montebello\, CA 90640
UID:e.1156.956
SEQUENCE:3
DTSTAMP:20260419T202602Z
URL:https://www.montebellochamber.org/events/details/ribbon-cutting-my-auto-center-10-18-2013-956
END:VEVENT

END:VCALENDAR
