BEGIN:VCALENDAR
VERSION:2.0
PRODID:-//ChamberMaster//Event Calendar 2.0//EN
METHOD:PUBLISH
X-PUBLISHED-TTL:P3D
REFRESH-INTERVAL:P3D
CALSCALE:GREGORIAN
BEGIN:VEVENT
DTSTART:20181129T200000Z
DTEND:20181129T213000Z
X-MICROSOFT-CDO-ALLDAYEVENT:FALSE
SUMMARY:Ribbon Cutting - My Car Broker
DESCRIPTION:Please join us as we celebrate the ribbon cutting of our new member My Car Broker\, and show them a friendly chamber welcome!
X-ALT-DESC;FMTTYPE=text/html:Please join us as we celebrate the ribbon cutting of our new member My Car Broker\, and show them a friendly chamber welcome!<br />\n<br />\n&nbsp\;
LOCATION:My Car Broker 540 N. Montebello Blvd. Suite E Montebello\, CA 90640
UID:e.1156.2865
SEQUENCE:3
DTSTAMP:20260419T160225Z
URL:https://www.montebellochamber.org/events/details/ribbon-cutting-my-car-broker-2865
END:VEVENT

END:VCALENDAR
