BEGIN:VCALENDAR
VERSION:2.0
PRODID:-//ChamberMaster//Event Calendar 2.0//EN
METHOD:PUBLISH
X-PUBLISHED-TTL:P3D
REFRESH-INTERVAL:P3D
CALSCALE:GREGORIAN
BEGIN:VEVENT
DTSTART:20170202T200000Z
DTEND:20170202T213000Z
X-MICROSOFT-CDO-ALLDAYEVENT:FALSE
SUMMARY:Ribbon Cutting - Obregon Psychological & Educational Services
DESCRIPTION:Please join us for the Ribbon Cutting Ceremony of \n\nObregon Psychological and Educational Services
X-ALT-DESC;FMTTYPE=text/html:Please join us for the Ribbon Cutting Ceremony of&nbsp\;<br />\nObregon Psychological and Educational Services
LOCATION:215 W. Pomona Blvd. Ste. 210\, Monterey Park\, CA 91754
UID:e.1156.1520
SEQUENCE:3
DTSTAMP:20260419T160224Z
URL:https://www.montebellochamber.org/events/details/ribbon-cutting-obregon-psychological-educational-services-1520
END:VEVENT

END:VCALENDAR
