BEGIN:VCALENDAR
VERSION:2.0
PRODID:-//ChamberMaster//Event Calendar 2.0//EN
METHOD:PUBLISH
X-PUBLISHED-TTL:P3D
REFRESH-INTERVAL:P3D
CALSCALE:GREGORIAN
BEGIN:VEVENT
DTSTART:20150729T190000Z
DTEND:20150729T203000Z
X-MICROSOFT-CDO-ALLDAYEVENT:FALSE
SUMMARY:Ribbon Cutting - SoCal Safe Co.
DESCRIPTION:Please join us the the Ribbon Cutting Ceremony of\n\nSoCal Safe Co.\n\nStep away for lunch and enjoy tasty treats while networking with your fellow chamber members!  The perfect opportunity to exchange business cards\, build relationships and build business.
X-ALT-DESC;FMTTYPE=text/html:Please join us the the Ribbon Cutting Ceremony of<br />\nSoCal Safe Co.<br />\nStep away for lunch and enjoy tasty treats while networking with your fellow chamber members!&nbsp\; The perfect opportunity to exchange business cards\, build relationships and build business.<br />\n<br />\n&nbsp\;
LOCATION:510 W. Washington Blvd. Montebello\, CA 90640 (800) 334-6060
UID:e.1156.1408
SEQUENCE:3
DTSTAMP:20260420T004709Z
URL:https://www.montebellochamber.org/events/details/ribbon-cutting-socal-safe-co-07-29-2015-1408
END:VEVENT

END:VCALENDAR
