BEGIN:VCALENDAR
VERSION:2.0
PRODID:-//ChamberMaster//Event Calendar 2.0//EN
METHOD:PUBLISH
X-PUBLISHED-TTL:P3D
REFRESH-INTERVAL:P3D
CALSCALE:GREGORIAN
BEGIN:VEVENT
DTSTART:20180330T190000Z
DTEND:20180330T210000Z
X-MICROSOFT-CDO-ALLDAYEVENT:FALSE
SUMMARY:Ribbon Cutting Starbucks Coffee
DESCRIPTION:Starbucks Coffee is pleased to announce the Ribbon Cutting of their new location in Montebello!   Please join us as we celebrate our new member!
X-ALT-DESC;FMTTYPE=text/html:Starbucks Coffee is pleased to announce the Ribbon Cutting of their new location in Montebello!&nbsp\; &nbsp\;Please join us as we celebrate our new member!
LOCATION:Starbucks Coffee 2501 W. Whittier Blvd. Montebello\, CA 90640
UID:e.1156.2499
SEQUENCE:3
DTSTAMP:20260419T143158Z
URL:https://www.montebellochamber.org/events/details/ribbon-cutting-starbucks-coffee-2499
END:VEVENT

END:VCALENDAR
