BEGIN:VCALENDAR
VERSION:2.0
PRODID:-//ChamberMaster//Event Calendar 2.0//EN
METHOD:PUBLISH
X-PUBLISHED-TTL:P3D
REFRESH-INTERVAL:P3D
CALSCALE:GREGORIAN
BEGIN:VEVENT
DTSTART:20180518T190000Z
DTEND:20180518T203000Z
X-MICROSOFT-CDO-ALLDAYEVENT:FALSE
SUMMARY:Ribbon Cutting - Verizon Wireless
DESCRIPTION:Montebello Chamber members are invited to the Ribbon Cutting ceremony of our newest Chamber Member\n\nVerizon Wireless!\n\nLight refreshments will be served\, and mingle with your fellow chamber members.
X-ALT-DESC;FMTTYPE=text/html:Montebello Chamber members are invited to the Ribbon Cutting ceremony of our newest Chamber Member<br />\nVerizon Wireless!<br />\nLight refreshments will be served\, and mingle with your fellow chamber members.
LOCATION:Verizon Wireless 882 W. Beverly Blvd. Montebello\, CA 90640
UID:e.1156.2569
SEQUENCE:3
DTSTAMP:20260419T160026Z
URL:https://www.montebellochamber.org/events/details/ribbon-cutting-verizon-wireless-2569
END:VEVENT

END:VCALENDAR
