BEGIN:VCALENDAR
VERSION:2.0
PRODID:-//ChamberMaster//Event Calendar 2.0//EN
METHOD:PUBLISH
X-PUBLISHED-TTL:P3D
REFRESH-INTERVAL:P3D
CALSCALE:GREGORIAN
BEGIN:VEVENT
DTSTART:20180804T160000Z
DTEND:20180804T190000Z
X-MICROSOFT-CDO-ALLDAYEVENT:FALSE
SUMMARY:Ride for Autism
DESCRIPTION:Ride for Autism\n\n \n\nRide Begins: \n\nLaidlaw's Harley Davidson\n\nStarts at 9:00 a.m.\n\nKickstands up 11:00 a.m.\n\n\n\nRide Ends: \n\nOriginal Mike's \n\nRide ends and party begins\n\nFood\, Entertainment\, Raffles\n\nParty only check in starts at 11:00 a.m.\n\n\n\nAll pre-registered riders guaranteed to receive a 2018 RIDE PIN\n\nAll motorcycle brands welcome\n\nRaise $100 or more donations and receive registration and after party FREE
X-ALT-DESC;FMTTYPE=text/html:<div style="text-align: center\;">Ride for Autism<br />\n&nbsp\;</div>\n\n<div style="text-align: center\;">Ride Begins:&nbsp\;<br />\nLaidlaw&#39\;s&nbsp\;Harley Davidson<br />\nStarts at 9:00 a.m.<br />\nKickstands up 11:00 a.m.<br />\n<br />\nRide Ends:&nbsp\;<br />\nOriginal Mike&#39\;s&nbsp\;<br />\nRide ends and party begins<br />\nFood\, Entertainment\, Raffles<br />\nParty only check in starts at 11:00 a.m.<br />\n<br />\nAll pre-registered riders guaranteed to receive a 2018 RIDE PIN<br />\nAll motorcycle brands welcome<br />\nRaise $100 or more donations and receive registration and after party FREE</div>\n
LOCATION:Ride Begins 1919 Puente Ave. Baldwin Park\, CA 91706 Ride Ends 100 S. Main St. Santa Ana\, CA 92701
UID:e.1156.2578
SEQUENCE:3
DTSTAMP:20260419T202107Z
URL:https://www.montebellochamber.org/events/details/ride-for-autism-2578
END:VEVENT

END:VCALENDAR
