BEGIN:VCALENDAR
VERSION:2.0
PRODID:-//ChamberMaster//Event Calendar 2.0//EN
METHOD:PUBLISH
X-PUBLISHED-TTL:P3D
REFRESH-INTERVAL:P3D
CALSCALE:GREGORIAN
BEGIN:VEVENT
DTSTART:20121026T000000Z
DTEND:20121026T020000Z
X-MICROSOFT-CDO-ALLDAYEVENT:FALSE
SUMMARY:Risher Montebello Mortuary Halloween Mixer
DESCRIPTION:This is the Mixer to Die For!\n\n\n\nJoin us for Light Refreshments and Appetizers\n\nDoor Prizes\n\nPrize for the Best Costume\n\n(Costumes not mandatory)
X-ALT-DESC;FMTTYPE=text/html:This is&nbsp\;the Mixer to Die For!<br />\n<br />\nJoin us for Light Refreshments and Appetizers<br />\nDoor Prizes<br />\nPrize for the Best Costume<br />\n<span style="font-size: 10px">(Costumes not mandatory)</span>
LOCATION:Risher Montebello Mortuary 1316 Whittier Blvd. Montebello\, CA 90640
UID:e.1156.661
SEQUENCE:3
DTSTAMP:20260419T231410Z
URL:https://www.montebellochamber.org/events/details/risher-montebello-mortuary-halloween-mixer-10-25-2012-661
END:VEVENT

END:VCALENDAR
