BEGIN:VCALENDAR
VERSION:2.0
PRODID:-//ChamberMaster//Event Calendar 2.0//EN
METHOD:PUBLISH
X-PUBLISHED-TTL:P3D
REFRESH-INTERVAL:P3D
CALSCALE:GREGORIAN
BEGIN:VEVENT
DTSTART:20151022T003000Z
DTEND:20151022T023000Z
X-MICROSOFT-CDO-ALLDAYEVENT:FALSE
SUMMARY:Risher Mortuary Halloween Mixer
DESCRIPTION:Risher Montebello Mortuary Halloween Mixer\n\n\n\nCome and relax while networking in costume or as your Spooktacular self!
X-ALT-DESC;FMTTYPE=text/html:<strong>Risher Montebello Mortuary Halloween Mixer</strong><br />\n<br />\nCome and relax while networking in costume or as your Spooktacular self!
LOCATION:Risher Montebello Mortuary 1316 W. Whittier Blvd. Montebello\, CA 90640
UID:e.1156.1425
SEQUENCE:3
DTSTAMP:20260419T141229Z
URL:https://www.montebellochamber.org/events/details/risher-mortuary-halloween-mixer-10-21-2015-1425
END:VEVENT

END:VCALENDAR
