BEGIN:VCALENDAR
VERSION:2.0
PRODID:-//ChamberMaster//Event Calendar 2.0//EN
METHOD:PUBLISH
X-PUBLISHED-TTL:P3D
REFRESH-INTERVAL:P3D
CALSCALE:GREGORIAN
BEGIN:VEVENT
DTSTART:20131206T010000Z
DTEND:20131206T040000Z
X-MICROSOFT-CDO-ALLDAYEVENT:FALSE
SUMMARY:Rock N' Rolling into the Holidays Crowne Plaza
DESCRIPTION:Rock N' Rolling into the Holidays\n\nToy Drive\n\n\n\nCash Bar / Dancing / Appetizers / 50/50\n\n\n\nParticipating Chambers: Montebello Chamber of Commerce\, Monterey Park Chamber of Commerce\, Santa Fe Springs Chamber of Commerce\, Vernon Chamber of Commerce\, Bell Gardens Chamber of Commerce\, Commerce Industrial Chamber of Commerce\, South Gate Chamber of Commerce\, Pico Rivera Chamber of Commerce.\n\n\n\nProudly Hosted & Sponsored by Crowne Plaza Hotels & Resorts\, and The Commerce Casino Los Angeles.
X-ALT-DESC;FMTTYPE=text/html:<span style="color: rgb(0\, 0\, 0)\;"><strong>Rock N&#39\; Rolling into the Holidays<br />\nToy Drive</strong></span><br />\n<br />\n<strong>Cash Bar / Dancing / Appetizers / 50/50</strong><br />\n<br />\n<strong>Participating Chambers</strong>: Montebello Chamber of Commerce\, Monterey Park Chamber of Commerce\, Santa Fe Springs Chamber of Commerce\, Vernon Chamber of Commerce\, Bell Gardens Chamber of Commerce\, Commerce Industrial Chamber of Commerce\, South Gate Chamber of Commerce\, Pico Rivera Chamber of Commerce.<br />\n<br />\nProudly Hosted &amp\; Sponsored by Crowne Plaza Hotels &amp\; Resorts\, and The Commerce Casino Los Angeles.<br />\n
LOCATION:Crowne Plaza Hotel at Commerce Casino 6121 E. Telegraph Road Commerce\, CA 90040 (323)728-3600 (Plenty of FREE parking or Valet for $2.00)
UID:e.1156.961
SEQUENCE:3
DTSTAMP:20260419T220318Z
URL:https://www.montebellochamber.org/events/details/rock-n-rolling-into-the-holidays-crowne-plaza-12-05-2013-961
END:VEVENT

END:VCALENDAR
