BEGIN:VCALENDAR
VERSION:2.0
PRODID:-//ChamberMaster//Event Calendar 2.0//EN
METHOD:PUBLISH
X-PUBLISHED-TTL:P3D
REFRESH-INTERVAL:P3D
CALSCALE:GREGORIAN
BEGIN:VEVENT
DTSTART:20121213T013000Z
DTEND:20121213T050000Z
X-MICROSOFT-CDO-ALLDAYEVENT:FALSE
SUMMARY:Rock N' Rolling into the Holidays Toy Drive
DESCRIPTION:Rock N' Rolling into the Holidays Toy Drive\n\n	Crowne Plaza Hotel at Commerce Casino\n\n	Cash Bar - DJ - Dancing - Appetizers - 50/50\n\n	\n\n	Toy Drive\n\n	Admission is a minimum $10.00 donation or unwrapped new toys are gladly accepted.  We're unable to accept used toys and stuffed animals of any kind.\n\n	Additional monetary donations are welcome.  Toy donations will be distributed by the Chambers to families in need in their community.
X-ALT-DESC;FMTTYPE=text/html:<p>\n	<strong>Rock N&#39\; Rolling into the Holidays Toy Drive<br />\n	Crowne Plaza Hotel at Commerce Casino</strong><br />\n	Cash Bar - DJ - Dancing - Appetizers - 50/50<br />\n	<br />\n	<strong>Toy Drive</strong><br />\n	Admission is a minimum $10.00 donation or unwrapped new toys are gladly accepted.&nbsp\; <u>We&#39\;re unable to accept used toys and stuffed animals of any kind</u>.<br />\n	Additional monetary donations are welcome.&nbsp\; Toy donations will be distributed by the Chambers to families in need in their community.<br />\n	&nbsp\;</p>\n
LOCATION:Crowne Plaza Hotel at Commerce Casino 6121 E. Telegraph Road Commerce\, CA 90040
UID:e.1156.672
SEQUENCE:3
DTSTAMP:20260419T202647Z
URL:https://www.montebellochamber.org/events/details/rock-n-rolling-into-the-holidays-toy-drive-12-12-2012-672
END:VEVENT

END:VCALENDAR
