BEGIN:VCALENDAR
VERSION:2.0
PRODID:-//ChamberMaster//Event Calendar 2.0//EN
METHOD:PUBLISH
X-PUBLISHED-TTL:P3D
REFRESH-INTERVAL:P3D
CALSCALE:GREGORIAN
BEGIN:VEVENT
DTSTART:20121028T180000Z
DTEND:20121029T003000Z
X-MICROSOFT-CDO-ALLDAYEVENT:FALSE
SUMMARY:Rose Hills Dia De Los Muertos Cultural Festival & Marketplace
DESCRIPTION:This year's 3rd Annual D a de los Muertos Cultural Festival & Marketplace will be filled with lots of exciting entertainment and arts and crafts para toda la familia!  \n\n	The free event includes:\n\n	v  Plaza de la Rosa   a variety of delicious foods for the whole family\n\n	v  Mercado de la Rosa   arts and crafts from a variety of local and regional vendors\n\n	v  Teatro de la Rosa   Live entertainment for the whole family \n\n	v  Arte de la Rosa   art display and for sale from talented local artists\, including this year's featured artist\, Raul Pizarro (raulpizarro.com)\n\n	v  Jardin de la Rosa   special kids workshops created for this event\n\n	 \nFor your entertainment\, we will feature a special performance by local band\, Conjunto Los Pochos.  Join the fun and enter the altar contest!  As you walk the grounds\, you'll be able to visit the beautiful altars created by families paying tribute to their loved ones. \n\n\n\nJoin us for an afternoon filled with art\, music and fun for the entire family.  For more information\, visit www.diadelosmuertos-RoseHills.com and don't forget to Like our Facebook page - www.facebook.com/RoseHillsDiadelosMuertos
X-ALT-DESC;FMTTYPE=text/html:<p class="MsoNormal" style="margin: 0in 0in 12pt">\n	<span style="font-size: 12px"><font color="#000000">This year&rsquo\;s 3<sup>rd</sup> Annual <i>D&iacute\;a de los Muertos</i> Cultural Festival &amp\; Marketplace will be filled with lots of exciting entertainment and arts and crafts <i>para toda la familia</i>!&nbsp\; </font></span></p>\n<p class="MsoNormal" style="margin: 0in 0in 0pt">\n	<span style="font-size: 12px"><font color="#000000">The free event includes:</font></span></p>\n<p class="MsoNormal" style="text-indent: -0.25in\; margin: 0in 0in 0pt 0.5in\; mso-list: l0 level1 lfo1">\n	<span style="font-size: 12px"><font color="#000000"><span style="font-family: wingdings\; mso-fareast-font-family: wingdings\; mso-bidi-font-family: wingdings"><span style="mso-list: ignore">v<span style="line-height: normal\; font-variant: normal\; font-style: normal\; font-family: 'times new roman'\; font-weight: normal">&nbsp\; </span></span></span>Plaza de la Rosa &ndash\; a variety of delicious foods for the whole family</font></span></p>\n<p class="MsoNormal" style="text-indent: -0.25in\; margin: 0in 0in 0pt 0.5in\; mso-list: l0 level1 lfo1">\n	<span style="font-size: 12px"><font color="#000000"><span style="font-family: wingdings\; mso-fareast-font-family: wingdings\; mso-bidi-font-family: wingdings"><span style="mso-list: ignore">v<span style="line-height: normal\; font-variant: normal\; font-style: normal\; font-family: 'times new roman'\; font-weight: normal">&nbsp\; </span></span></span>Mercado de la Rosa &ndash\; arts and crafts from a variety of local and regional vendors</font></span></p>\n<p class="MsoNormal" style="text-indent: -0.25in\; margin: 0in 0in 0pt 0.5in\; mso-list: l0 level1 lfo1">\n	<span style="font-size: 12px"><font color="#000000"><span style="font-family: wingdings\; mso-fareast-font-family: wingdings\; mso-bidi-font-family: wingdings"><span style="mso-list: ignore">v<span style="line-height: normal\; font-variant: normal\; font-style: normal\; font-family: 'times new roman'\; font-weight: normal">&nbsp\; </span></span></span>Teatro de la Rosa &ndash\; Live entertainment for the whole family </font></span></p>\n<p class="MsoNormal" style="text-indent: -0.25in\; margin: 0in 0in 0pt 0.5in\; mso-list: l0 level1 lfo1">\n	<span style="font-size: 12px"><font color="#000000"><span style="font-family: wingdings\; mso-fareast-font-family: wingdings\; mso-bidi-font-family: wingdings"><span style="mso-list: ignore">v<span style="line-height: normal\; font-variant: normal\; font-style: normal\; font-family: 'times new roman'\; font-weight: normal">&nbsp\; </span></span></span>Arte de la Rosa &ndash\; art display and for sale from talented local artists\, including this year&rsquo\;s featured artist\, Raul Pizarro (raulpizarro.com)</font></span></p>\n<p class="MsoNormal" style="text-indent: -0.25in\; margin: 0in 0in 0pt 0.5in\; mso-list: l0 level1 lfo1">\n	<span style="font-size: 12px"><font color="#000000"><span style="font-family: wingdings\; mso-fareast-font-family: wingdings\; mso-bidi-font-family: wingdings"><span style="mso-list: ignore">v<span style="line-height: normal\; font-variant: normal\; font-style: normal\; font-family: 'times new roman'\; font-weight: normal">&nbsp\; </span></span></span>Jardin de la Rosa &ndash\; special kids workshops created for this event</font></span></p>\n<p class="MsoNormal" style="margin: 0in 0in 0pt">\n	<span style="font-size: 12px"><font color="#000000">&nbsp\;</font></span></p>\n<span style="font-size: 12px"><span style="font-family: 'calibri'\, 'sans-serif'\; mso-fareast-font-family: calibri\; mso-fareast-theme-font: minor-latin\; mso-ansi-language: en-us\; mso-fareast-language: en-us\; mso-bidi-language: ar-sa"><font color="#000000">For your entertainment\, we will feature a special performance by local band\, </font><a href="http://www.lospochos.com/"><font color="#0000ff">Conjunto</font></a><font color="#0000ff"> Los Pochos</font><font color="#000000">.&nbsp\; Join the fun and enter the </font><a href="http://dayofthedead-rosehills.com/altar-contest/"><font color="#0000ff">altar contest</font></a><font color="#000000">!&nbsp\; As you walk the grounds\, you&rsquo\;ll be able to visit the beautiful altars created by families paying tribute to their loved ones.&nbsp\;<br />\n<br />\nJoin us for an afternoon filled with art\, music and fun for the entire family.&nbsp\; For more information\, visit </font><a href="http://www.diadelosmuertos-rosehills.com/"><font color="#0000ff">www.diadelosmuertos-RoseHills.com</font></a><font color="#000000"> and don&rsquo\;t forget to Like our Facebook page - </font><a href="http://www.facebook.com/RoseHillsDiadelosMuertos"><font color="#0000ff">www.facebook.com</font></a><font color="#0000ff">/RoseHillsDiadelosMuertos</font></span></span>
LOCATION:Rose Hills 3888 Workman Mill Road Gate 1 Whittier\, CA 90601
UID:e.1156.654
SEQUENCE:3
DTSTAMP:20260419T231648Z
URL:https://www.montebellochamber.org/events/details/rose-hills-dia-de-los-muertos-cultural-festival-marketplace-10-28-2012-654
END:VEVENT

END:VCALENDAR
