BEGIN:VCALENDAR
VERSION:2.0
PRODID:-//ChamberMaster//Event Calendar 2.0//EN
METHOD:PUBLISH
X-PUBLISHED-TTL:P3D
REFRESH-INTERVAL:P3D
CALSCALE:GREGORIAN
BEGIN:VEVENT
DTSTART:20120408T130000Z
DTEND:20120408T130000Z
X-MICROSOFT-CDO-ALLDAYEVENT:FALSE
SUMMARY:Rose Hills Easter Sunrise Service
DESCRIPTION:Please join us at Rose Hills Easter Sunrise Service on April 8 at 6:00 a.m.\n\n	Reverend Paul Clay of Hillcrest Congregational Church will deliver the Easter message.\n\n	La Mirada Vocal Arts\, conducted by Paul Delgado\, will perform.\n\n	Women's & Children's Crisis Center will be the recipient of this year's special offering.
X-ALT-DESC;FMTTYPE=text/html:<p class="MsoNormal" style="line-height: 150%\; margin: 0in 0in 0pt">\n	<span lang="EN" style="line-height: 150%\; font-family: 'arial'\, 'sans-serif'\; color: #222222\; font-size: 10pt\; mso-ansi-language: en">Please join us at Rose Hills Easter Sunrise Service on April 8 at 6:00 a.m.<br />\n	Reverend Paul Clay of Hillcrest Congregational&nbsp\;Church will deliver the Easter message.<br />\n	La Mirada Vocal Arts\, conducted by Paul Delgado\, will perform.<br />\n	Women&#39\;s &amp\; Children&#39\;s Crisis Center will be the recipient of this year&#39\;s special offering.</span><span style="line-height: 150%\; font-size: 10pt"><o:p></o:p></span></p>\n
LOCATION:Rose Hills Memorial Park Gate One\, The Gardens
UID:e.1156.424
SEQUENCE:3
DTSTAMP:20260420T095550Z
URL:https://www.montebellochamber.org/events/details/rose-hills-easter-sunrise-service-04-08-2012-424
END:VEVENT

END:VCALENDAR
