BEGIN:VCALENDAR
VERSION:2.0
PRODID:-//ChamberMaster//Event Calendar 2.0//EN
METHOD:PUBLISH
X-PUBLISHED-TTL:P3D
REFRESH-INTERVAL:P3D
CALSCALE:GREGORIAN
BEGIN:VEVENT
DTSTART:20191030T190000Z
DTEND:20191030T203000Z
X-MICROSOFT-CDO-ALLDAYEVENT:FALSE
SUMMARY:Rose Hills Kiosk Ribbon Cutting
DESCRIPTION:Ribbon Cutting at Rose Hills Kiosk at the Shops at Montebello!\n\nPlease join us to help celebrate our new member and network with other chamber members while building relationships!
X-ALT-DESC;FMTTYPE=text/html:Ribbon Cutting at Rose Hills Kiosk at the Shops at Montebello!<br />\nPlease join us to help celebrate our new member and network with other chamber members while building relationships!&nbsp\;
LOCATION:Rose Hills Kiosk at the Shops at Montebello 2134 Montebello Town Center Montebello\, CA 90640
UID:e.1156.3417
SEQUENCE:3
DTSTAMP:20260422T143217Z
URL:https://www.montebellochamber.org/events/details/rose-hills-kiosk-ribbon-cutting-3417
END:VEVENT

END:VCALENDAR
