BEGIN:VCALENDAR
VERSION:2.0
PRODID:-//ChamberMaster//Event Calendar 2.0//EN
METHOD:PUBLISH
X-PUBLISHED-TTL:P3D
REFRESH-INTERVAL:P3D
CALSCALE:GREGORIAN
BEGIN:VEVENT
DTSTART:20140526T180000Z
DTEND:20140526T190000Z
X-MICROSOFT-CDO-ALLDAYEVENT:FALSE
SUMMARY:Rose Hills Memorial Day Observance
DESCRIPTION:One of the longest running Memorial Day Observance events in the state\, this annual family-friendly event features observance and remembrance through the participation of community and patriotic groups\, including the chamber singers\, Veterans of Foreign Wars\, American Legion and American Heritage Ensemble. Scheduled program events include a keynote speech by Former U.S. Secretary of Labor Hilda Solis\, musical entertainment\, military flyover\, honor guard and rifle team performances\, a memorial wreath-laying ceremony and a POW/MIA remembrance. The local Mountain View Girl Scout troop will participate by distributing a miniature U.S. flag to all attendees. This event is free and open to the public.
X-ALT-DESC;FMTTYPE=text/html:One of the longest running Memorial Day Observance events in the state\, this annual family-friendly event features observance and remembrance through the participation of community and patriotic groups\, including the chamber singers\, Veterans of Foreign Wars\, American Legion and American Heritage Ensemble. Scheduled program events include a keynote speech by Former U.S. Secretary of Labor Hilda Solis\, musical entertainment\, military flyover\, honor guard and rifle team performances\, a memorial wreath-laying ceremony and a POW/MIA remembrance. The local Mountain View Girl Scout troop will participate by distributing a miniature U.S. flag to all attendees. This event is free and open to the public.
LOCATION:The Gardens at Rose Hills Memorial Park\, Whittier
UID:e.1156.1002
SEQUENCE:3
DTSTAMP:20260419T143419Z
URL:https://www.montebellochamber.org/events/details/rose-hills-memorial-day-observance-05-26-2014-1002
END:VEVENT

END:VCALENDAR
