BEGIN:VCALENDAR
VERSION:2.0
PRODID:-//ChamberMaster//Event Calendar 2.0//EN
METHOD:PUBLISH
X-PUBLISHED-TTL:P3D
REFRESH-INTERVAL:P3D
CALSCALE:GREGORIAN
BEGIN:VEVENT
DTSTART:20181202T210000Z
DTEND:20181203T000000Z
X-MICROSOFT-CDO-ALLDAYEVENT:FALSE
SUMMARY:Rose Hills/Our Lady of Guadalupe Celebration
DESCRIPTION:Our Lady of Guadalupe Celebration \n\nJoin us for a beautiful reenactment of Juan Diego's encounter with Our Lady of Guadalupe\, followed by an emotional procession with a gifted image from the Basilica of Our Lady of Guadalupe. Live Music & Marketplace to follow.
X-ALT-DESC;FMTTYPE=text/html:Our Lady of Guadalupe Celebration&nbsp\;<br />\nJoin us for a beautiful reenactment of Juan Diego&#39\;s encounter with Our Lady of Guadalupe\, followed by an emotional procession with a gifted image from the Basilica of Our Lady of Guadalupe. Live Music &amp\; Marketplace to follow.
LOCATION:Rose Hills Memorial Park 3888 Workman Mill Road Whittier\, CA 90601
UID:e.1156.3102
SEQUENCE:3
DTSTAMP:20260419T160544Z
URL:https://www.montebellochamber.org/events/details/rose-hills-our-lady-of-guadalupe-celebration-3102
END:VEVENT

END:VCALENDAR
