BEGIN:VCALENDAR
VERSION:2.0
PRODID:-//ChamberMaster//Event Calendar 2.0//EN
METHOD:PUBLISH
X-PUBLISHED-TTL:P3D
REFRESH-INTERVAL:P3D
CALSCALE:GREGORIAN
BEGIN:VEVENT
DTSTART:20190915T213000Z
DTEND:20190916T000000Z
X-MICROSOFT-CDO-ALLDAYEVENT:FALSE
SUMMARY:Rose Hills/Welcome Home Veterans Event
DESCRIPTION:Welcome Home Veterans Event.  Honoring Women in the Military and all Veterans!  Resource fair featuring more than 40 exhibitors\, classic car show\, live entertainment and family activiities.
X-ALT-DESC;FMTTYPE=text/html:Welcome Home Veterans Event.&nbsp\; Honoring Women in the Military and all Veterans!&nbsp\; Resource fair featuring more than 40 exhibitors\, classic car show\, live entertainment and family activiities.&nbsp\;&nbsp\;
LOCATION:Rose Hills Memorial Park & Mortuary Mission Hills at Rose Hills Memorial Park 3888 Workman Mill Road Whittier\, CA 90601
UID:e.1156.3371
SEQUENCE:3
DTSTAMP:20260419T173351Z
URL:https://www.montebellochamber.org/events/details/rose-hills-welcome-home-veterans-event-3371
END:VEVENT

END:VCALENDAR
