BEGIN:VCALENDAR
VERSION:2.0
PRODID:-//ChamberMaster//Event Calendar 2.0//EN
METHOD:PUBLISH
X-PUBLISHED-TTL:P3D
REFRESH-INTERVAL:P3D
CALSCALE:GREGORIAN
BEGIN:VEVENT
DTSTART:20141204T200000Z
DTEND:20141204T213000Z
X-MICROSOFT-CDO-ALLDAYEVENT:FALSE
SUMMARY:SA Recycling Ribbon Cutting Ceremony
DESCRIPTION:Please join us for the Ribbon Cutting ceremony of  \n\n                                    SA Recycling \n\n\n\nStep away for lunch and enjoy tasty treats while networking with your fellow chamber members. The perfect opportunity to exchange business cards\, build relationships and build business.
X-ALT-DESC;FMTTYPE=text/html:Please join us for the Ribbon Cutting ceremony of&nbsp\;<span style="color: #ff0000"> </span><br />\n&nbsp\;&nbsp\;&nbsp\;&nbsp\;&nbsp\;&nbsp\;&nbsp\;&nbsp\;&nbsp\;&nbsp\;&nbsp\;&nbsp\;&nbsp\;&nbsp\;&nbsp\;&nbsp\;&nbsp\;&nbsp\;&nbsp\;&nbsp\;&nbsp\;&nbsp\;&nbsp\;&nbsp\;&nbsp\;&nbsp\;&nbsp\;&nbsp\;&nbsp\;&nbsp\;&nbsp\;&nbsp\;&nbsp\;&nbsp\;&nbsp\;&nbsp\;<span style="color: #ff0000">SA Recycling </span><br />\n<br />\nStep away for lunch and enjoy tasty treats while networking with your fellow chamber members. The perfect opportunity to exchange business cards\, build relationships and build business.
LOCATION:SA Recycling 1545 Gage Rd. Montebello\, CA 90640
UID:e.1156.1129
SEQUENCE:3
DTSTAMP:20260419T143511Z
URL:https://www.montebellochamber.org/events/details/sa-recycling-ribbon-cutting-ceremony-12-04-2014-1129
END:VEVENT

END:VCALENDAR
