BEGIN:VCALENDAR
VERSION:2.0
PRODID:-//ChamberMaster//Event Calendar 2.0//EN
METHOD:PUBLISH
X-PUBLISHED-TTL:P3D
REFRESH-INTERVAL:P3D
CALSCALE:GREGORIAN
BEGIN:VEVENT
DTSTART:20200131T023000Z
DTEND:20200131T043000Z
X-MICROSOFT-CDO-ALLDAYEVENT:FALSE
SUMMARY:Salsa & Soroptimist Induction Celebration
DESCRIPTION:Montebello Soroptimist Presents...Induction-Recrutiment-Celebration!  Let's learn to Salsa!  Food-Fun-Wine! Includes beginner lesson.
X-ALT-DESC;FMTTYPE=text/html:Montebello Soroptimist Presents...Induction-Recrutiment-Celebration!&nbsp\; Let&#39\;s learn to Salsa!&nbsp\; Food-Fun-Wine! Includes beginner lesson.
LOCATION:Montebello Women's Club 201 S. Park Ave Montebello\, CA 90640
UID:e.1156.3572
SEQUENCE:3
DTSTAMP:20260419T130050Z
URL:https://www.montebellochamber.org/events/details/salsa-soroptimist-induction-celebration-3572
END:VEVENT

END:VCALENDAR
