BEGIN:VCALENDAR
VERSION:2.0
PRODID:-//ChamberMaster//Event Calendar 2.0//EN
METHOD:PUBLISH
X-PUBLISHED-TTL:P3D
REFRESH-INTERVAL:P3D
CALSCALE:GREGORIAN
BEGIN:VEVENT
DTSTART;VALUE=DATE:20191109
DTEND;VALUE=DATE:20191110
TRANSP:TRANSPARENT
X-MICROSOFT-CDO-ALLDAYEVENT:TRUE
SUMMARY:Santa Photos Begin @ The Shops at Montebello
DESCRIPTION:Nov 9\, 2019 - Dec 24\, 2019\n\nIt's time for holiday photos with Santa.\n\nSkip the line to Santa and reserve your spot in line with FASTPASS\n\nSanta Hours HERE\n\nTimes are subject to change.
X-ALT-DESC;FMTTYPE=text/html:<div class="mn-raw" itemprop="description">\n<p>Nov 9\, 2019 - Dec 24\, 2019</p>\n\n<h3>It&rsquo\;s time for holiday photos with Santa.</h3>\n\n<p>Skip the line to Santa and reserve your spot in line with <b><a href="https://www.santasfastpass.com/scheduling/YJ-sQKDZ:the-shops-at-montebello" target="_blank">FASTPASS</a></b></p>\n\n<p><b>Santa Hours <a href="https://shopsatmontebello.com/wp-content/uploads/2019/11/SMC_Santa_Hours.pdf" target="_blank">HERE</a></b></p>\n\n<p>Times are subject to change.</p>\n</div>\n
LOCATION:The Shops at Montebello 2134 Montebello Town Center Dr. Montebello\, CA 90640
UID:e.1156.3482
SEQUENCE:3
DTSTAMP:20260419T173040Z
URL:https://www.montebellochamber.org/events/details/santa-photos-begin-the-shops-at-montebello-3482
END:VEVENT

END:VCALENDAR
