BEGIN:VCALENDAR
VERSION:2.0
PRODID:-//ChamberMaster//Event Calendar 2.0//EN
METHOD:PUBLISH
X-PUBLISHED-TTL:P3D
REFRESH-INTERVAL:P3D
CALSCALE:GREGORIAN
BEGIN:VEVENT
DTSTART:20181118T000000Z
DTEND:20181118T020000Z
X-MICROSOFT-CDO-ALLDAYEVENT:FALSE
SUMMARY:Santa's Arrival at The Shops at Montebello
DESCRIPTION:Santa's Arrival and Spark of Love Toy Drive will take place on Saturday\, November 17 at 4 p.m.   There will be holiday cookies and treats and entertainment that the community can participate in. \n\nDon't forget to bring a new unwrapped toy for Spark of Love as we kick off our annual holiday toy drive with ABC Channel 7 & Southern California Firefighters.
X-ALT-DESC;FMTTYPE=text/html:<strong><span style="font-family:calibri\,sans-serif\;"><span style="font-size:11.0pt\;">Santa&rsquo\;s Arrival</span></span></strong><span style="font-family:calibri\,sans-serif\;"><span style="font-size:11.0pt\;">&nbsp\;and <strong>Spark of Love Toy Drive&nbsp\;</strong>will take place on Saturday\, November 17 at 4 p.m.&nbsp\; &nbsp\;There will be holiday cookies and treats and entertainment that the community can participate in.&nbsp\;</span></span><br />\n<span style="font-size:14px\;"><span style="font-family: SimonCircularPro-Book\, sans-serif\; background-color: rgb(255\, 255\, 255)\;">Don&#39\;t forget to bring a new unwrapped toy for Spark of Love as we kick off our annual holiday toy drive with ABC Channel 7&nbsp\;&amp\; Southern California Firefighters.</span></span><br />\n&nbsp\;
LOCATION:The Shops at Montebello 2134 Montebello Town Center Dr. Montebello\, CA 90640 (323) 722-1776
UID:e.1156.3110
SEQUENCE:3
DTSTAMP:20260419T173515Z
URL:https://www.montebellochamber.org/events/details/santa-s-arrival-at-the-shops-at-montebello-3110
END:VEVENT

END:VCALENDAR
