BEGIN:VCALENDAR
VERSION:2.0
PRODID:-//ChamberMaster//Event Calendar 2.0//EN
METHOD:PUBLISH
X-PUBLISHED-TTL:P3D
REFRESH-INTERVAL:P3D
CALSCALE:GREGORIAN
BEGIN:VEVENT
DTSTART;VALUE=DATE:20180811
DTEND;VALUE=DATE:20180812
TRANSP:TRANSPARENT
X-MICROSOFT-CDO-ALLDAYEVENT:TRUE
SUMMARY:Sears Family and Friends Event!
DESCRIPTION:Sears Montebello\n\nFamily and Friends Event\n\nGet an Extra 10-15% Off\n\nRegular and Sale Prices\n\nIn Store - One Day Only August 11th 2018\n\n(Extended shopping at Sears.com Sat. August 11th-Tues. Aug.14)
X-ALT-DESC;FMTTYPE=text/html:Sears Montebello<br />\nFamily and Friends Event<br />\nGet an Extra 10-15% Off<br />\nRegular and Sale Prices<br />\nIn Store - One Day Only August 11th 2018<br />\n(Extended shopping at Sears.com Sat. August 11th-Tues. Aug.14)<br />\n<br />\n&nbsp\;
LOCATION:Sears Montebello 1401 N. Montebello Blvd. Montebello\, CA 90640
UID:e.1156.2845
SEQUENCE:3
DTSTAMP:20260419T202602Z
URL:https://www.montebellochamber.org/events/details/sears-family-and-friends-event-2845
END:VEVENT

END:VCALENDAR
