BEGIN:VCALENDAR
VERSION:2.0
PRODID:-//ChamberMaster//Event Calendar 2.0//EN
METHOD:PUBLISH
X-PUBLISHED-TTL:P3D
REFRESH-INTERVAL:P3D
CALSCALE:GREGORIAN
BEGIN:VEVENT
DTSTART:20131210T170000Z
DTEND:20131210T183000Z
X-MICROSOFT-CDO-ALLDAYEVENT:FALSE
SUMMARY:Seminar - How Obamacare Will Impact Your Business
DESCRIPTION:Pico Rivera Chamber of Commerce &\n\nMontebello Chamber of Commerce \n\nPresent a Seminar on\n\nHow Obamacare will Impact Your Business\n\nIn Collaboration with\n\nCongresswoman Linda Sanchez\n\nAssemblymember Cristina Garcia\n\n\n\nThe Patient Protection and Affordable Care Act\n\n\n\nYou Will Learn:\n\n	\n		What is the Affordable Care Act?\n	\n		What is Covered California?\n	\n		Will my current individual & group plans be affected?\n	\n		What is the Small Business Health Options Program (SHOP)?\n	\n		How will SHOP benefit my business & my employees?\n\n\n\nTo RSVP or for more information please contact the Pico Rivera Chamber at (562)949-2473 or the Montebello Chamber of Commerce at (323)721-1153
X-ALT-DESC;FMTTYPE=text/html:<strong><span style="color: rgb(0\, 0\, 128)\;">Pico Rivera Chamber of Commerce &amp\;<br />\nMontebello Chamber of Commerce </span></strong><br />\nPresent a Seminar on<br />\n<strong>How Obamacare will Impact Your Business</strong><br />\nIn Collaboration with<br />\n<span style="color: rgb(0\, 0\, 128)\;"><strong>Congresswoman Linda Sanchez<br />\nAssemblymember Cristina Garcia</strong></span><br />\n<br />\nThe Patient Protection and Affordable Care Act<br />\n<br />\nYou Will Learn:\n<ul>\n	<li>\n		What is the Affordable Care Act?</li>\n	<li>\n		What is Covered California?</li>\n	<li>\n		Will my current individual &amp\; group plans be affected?</li>\n	<li>\n		What is the Small Business Health Options Program (SHOP)?</li>\n	<li>\n		How will SHOP benefit my business &amp\; my employees?</li>\n</ul>\n<br />\nTo RSVP or for more information please contact the Pico Rivera Chamber at (562)949-2473 or the Montebello Chamber of Commerce at (323)721-1153<br />\n
LOCATION:Pico Park 9528 Beverly Blvd. Pico Rivera\, CA 90660
UID:e.1156.962
SEQUENCE:3
DTSTAMP:20260419T220159Z
URL:https://www.montebellochamber.org/events/details/seminar-how-obamacare-will-impact-your-business-12-10-2013-962
END:VEVENT

END:VCALENDAR
