BEGIN:VCALENDAR
VERSION:2.0
PRODID:-//ChamberMaster//Event Calendar 2.0//EN
METHOD:PUBLISH
X-PUBLISHED-TTL:P3D
REFRESH-INTERVAL:P3D
CALSCALE:GREGORIAN
BEGIN:VEVENT
DTSTART:20160415T003000Z
DTEND:20160415T013000Z
X-MICROSOFT-CDO-ALLDAYEVENT:FALSE
SUMMARY:Seminar - Path to Financial Independence
DESCRIPTION:Revolution Financial Management Presents\n\n"Path to Financial Independence"\n\nPlease join James Chu to hear author Mark Quann teach you about money.\n\nAll  attendees will receive a free copy of the book Rich Man Poor Bank just for showing up.
X-ALT-DESC;FMTTYPE=text/html:<p><strong>Revolution Financial Management Presents</strong><br />\n&quot\;Path to Financial Independence&quot\;<br />\nPlease join James Chu to hear author Mark Quann teach you about money.<br />\nAll&nbsp\; attendees will receive a free copy of the book Rich Man Poor Bank just for showing up.<br />\n&nbsp\;</p>\n
LOCATION:Montebello Chamber of Commerce 109 N. 19th Street Montebello\, CA 90640
UID:e.1156.1471
SEQUENCE:3
DTSTAMP:20260419T231240Z
URL:https://www.montebellochamber.org/events/details/seminar-path-to-financial-independence-04-14-2016-1471
END:VEVENT

END:VCALENDAR
