BEGIN:VCALENDAR
VERSION:2.0
PRODID:-//ChamberMaster//Event Calendar 2.0//EN
METHOD:PUBLISH
X-PUBLISHED-TTL:P3D
REFRESH-INTERVAL:P3D
CALSCALE:GREGORIAN
BEGIN:VEVENT
DTSTART:20200711T170000Z
DTEND:20200711T170000Z
X-MICROSOFT-CDO-ALLDAYEVENT:FALSE
SUMMARY:Senator Bob Archuleta & City of Montebello Food Distribution
DESCRIPTION:Senator Bob Archuleta and City of Montebello Drive-Thru Food Distribution!  Food Distribution for families impacted by Covid-19.  First 300 families-first come\, first serve basis.  While supplies last!  Please wear your mask.
X-ALT-DESC;FMTTYPE=text/html:Senator Bob Archuleta and City of Montebello Drive-Thru Food Distribution!&nbsp\; Food Distribution for families impacted by Covid-19.&nbsp\; First 300 families-first come\, first serve basis.&nbsp\; While supplies last!&nbsp\; <u><strong>Please wear your mask.&nbsp\; </strong></u>
LOCATION:Montebello City Hall 1600 West Beverly Blvd. Montebello\, CA 90640
UID:e.1156.3739
SEQUENCE:3
DTSTAMP:20260419T143824Z
URL:https://www.montebellochamber.org/events/details/senator-bob-archuleta-city-of-montebello-food-distribution-3739
END:VEVENT

END:VCALENDAR
