BEGIN:VCALENDAR
VERSION:2.0
PRODID:-//ChamberMaster//Event Calendar 2.0//EN
METHOD:PUBLISH
X-PUBLISHED-TTL:P3D
REFRESH-INTERVAL:P3D
CALSCALE:GREGORIAN
BEGIN:VEVENT
DTSTART:20160123T180000Z
DTEND:20160123T220000Z
X-MICROSOFT-CDO-ALLDAYEVENT:FALSE
SUMMARY:Senator Mendoza's Free Health & Covered CA Enrollment Fair
DESCRIPTION:Senator Tony Mendoza invites you and your family to participate in a Free Health & Covered California Enrollment Fair\n\nJoin us for this FREE event to sign up your family for health insurance.\n\nWHAT YOU WILL NEED TO BRING:\n\n	Current income of all family members on the application (copy of last year's Federal Income Tax return\, W-2 form\, two current pay stubs\, etc.)\n	Legal residency or immigration documents\n	Copy of SSN (only if you are applying for coverage) and DOB for each family member in the household\n\nOPEN ENROLLMENT ENDS ON January 31\, 2016.  Most people are required to have health insurance or pay a penalty on their tax returns.  Tax penalties in 2016 will be higher than the year before.
X-ALT-DESC;FMTTYPE=text/html:<strong>Senator Tony Mendoza invites you and your family to participate in a Free Health &amp\; Covered California Enrollment Fair<br />\nJoin us for this FREE event to sign up your family for health insurance.</strong><br />\nWHAT YOU WILL NEED TO BRING:\n<ul>\n	<li>Current income of all family members on the application (copy of last year&#39\;s Federal Income Tax return\, W-2 form\, two current pay stubs\, etc.)</li>\n	<li>Legal residency or immigration documents</li>\n	<li>Copy of SSN (only if you are applying for coverage) and DOB for each family member in the household</li>\n</ul>\n<strong>OPEN ENROLLMENT ENDS ON January 31\, 2016</strong>.&nbsp\; Most people are required to have health insurance or pay a penalty on their tax returns.&nbsp\; Tax penalties in 2016 will be higher than the year before.<br />\n&nbsp\;
LOCATION:Cerritos College - Student Center 11110 Alondra Blvd. Norwalk\, CA 90650
UID:e.1156.1447
SEQUENCE:3
DTSTAMP:20260419T185734Z
URL:https://www.montebellochamber.org/events/details/senator-mendoza-s-free-health-covered-ca-enrollment-fair-01-23-2016-1447
END:VEVENT

END:VCALENDAR
