BEGIN:VCALENDAR
VERSION:2.0
PRODID:-//ChamberMaster//Event Calendar 2.0//EN
METHOD:PUBLISH
X-PUBLISHED-TTL:P3D
REFRESH-INTERVAL:P3D
CALSCALE:GREGORIAN
BEGIN:VEVENT
DTSTART;VALUE=DATE:20150228
DTEND;VALUE=DATE:20150301
TRANSP:TRANSPARENT
X-MICROSOFT-CDO-ALLDAYEVENT:TRUE
SUMMARY:Senator Tony Mendoza 2015 Woman of the Year Nomination Information & Deadline
DESCRIPTION:Senator Tony Mendoza is looking to honor and celebrate the work of deserving women making a different in the 32nd Senate District.\n\n\n\nClick for flyer and nomination forms!
X-ALT-DESC;FMTTYPE=text/html:Senator Tony Mendoza is looking to honor and celebrate the work of deserving women making a different in the 32nd Senate District.<br />\n<br />\nClick for flyer and nomination forms!
LOCATION:
UID:e.1156.1370
SEQUENCE:3
DTSTAMP:20260419T161032Z
URL:https://www.montebellochamber.org/events/details/senator-tony-mendoza-2015-woman-of-the-year-nomination-information-deadline-02-28-2015-1370
END:VEVENT

END:VCALENDAR
