BEGIN:VCALENDAR
VERSION:2.0
PRODID:-//ChamberMaster//Event Calendar 2.0//EN
METHOD:PUBLISH
X-PUBLISHED-TTL:P3D
REFRESH-INTERVAL:P3D
CALSCALE:GREGORIAN
BEGIN:VEVENT
DTSTART:20181015T160000Z
DTEND:20181015T200000Z
X-MICROSOFT-CDO-ALLDAYEVENT:FALSE
SUMMARY:Senior Health Fair
DESCRIPTION:City of Montebello\n\nSenior Health Fair\n\n\n\nHealth Insurances\n\nAlignment\n\nAnthem/Caremore\n\nBlue Shield/Care1st\n\nScan\n\nUnitedhealthcare\n\nCovered California\n\nScreenings\n\nBlood Pressure\n\nBody Mass Index\n\nBone Density\n\nReflexology Massage\n\nDerma Scan\n\nHearing Test\n\nLung Capacity\n\nMassages\n\nStroke Screening\n\nVaricose-Vein\n\nScreening\n\nMedical Groups\n\nAltaMed\n\nApplecare\n\nHealthcare Partners\n\nLa Familia Medical Group Inc.\n\nProspect\n\nRegal\n\nPIH\n\n\n\nA Homecare Company\n\nAlzheimer's LA\n\nBeverly Hospital\n\nCancer Support Community\n\nPasadena\n\nCedra Pharmacy Montebello\n\nDepartment of Health Care\n\nServices\n\nEast LA Veterans\n\n(re-adjustment\n\nCounseling Services)\n\nHuman Services Association\n\nLatino Family Center\n\nLatin Kids Health\n\nLA Fitness Gym\n\nMexican American\n\nOpportunity Foundation\n\nMontebello Bus Lines\n\nMontebello Dental Group\n\nPacific Clinics\n\nRose Hills\n\nSilver Sneakers\n\nSocial Security\n\nAdministration\n\nState of California Public\n\nUtilities Commission\n\nThe Prescription Shop\n\nTherapeutic Massage\n\nVarcious Vein Laser Center\n\n& Med Spa\n\nVirture Hearing Aid Center\n\nYWCA\n\n\n\nCome and Enjoy\n\nInformational Booths\, Screenings\,\n\nGiveaways\,Raffle prizes\, Music and\n\nFamily Fun!\n\nThank you to our sponsor Heart of Compassion\n\nDemos / Presentations\n\nZumba Gold - 9:30 am-10 am\n\nCardio Fit - 10 am - 10:30 am\n\nVendors/Raffles - 10:30 am - 11:30 am\n\nNutrition talk - 11:30 am - 11:45 am\n\nStroke Survivor 11:45 am - 12 pm\n\nRaffles - 12 pm - 12:15 pm
X-ALT-DESC;FMTTYPE=text/html:City of Montebello<br />\nSenior Health Fair<br />\n<br />\nHealth Insurances<br />\nAlignment<br />\nAnthem/Caremore<br />\nBlue Shield/Care1st<br />\nScan<br />\nUnitedhealthcare<br />\nCovered California<br />\nScreenings<br />\nBlood Pressure<br />\nBody Mass Index<br />\nBone Density<br />\nReflexology Massage<br />\nDerma Scan<br />\nHearing Test<br />\nLung Capacity<br />\nMassages<br />\nStroke Screening<br />\nVaricose-Vein<br />\nScreening<br />\nMedical Groups<br />\nAltaMed<br />\nApplecare<br />\nHealthcare Partners<br />\nLa Familia Medical Group Inc.<br />\nProspect<br />\nRegal<br />\nPIH<br />\n<br />\nA Homecare Company<br />\nAlzheimer&#39\;s LA<br />\nBeverly Hospital<br />\nCancer Support Community<br />\nPasadena<br />\nCedra Pharmacy Montebello<br />\nDepartment of Health Care<br />\nServices<br />\nEast LA Veterans<br />\n(re-adjustment<br />\nCounseling Services)<br />\nHuman Services Association<br />\nLatino Family Center<br />\nLatin Kids Health<br />\nLA Fitness Gym<br />\nMexican American<br />\nOpportunity Foundation<br />\nMontebello Bus Lines<br />\nMontebello Dental Group<br />\nPacific Clinics<br />\nRose Hills<br />\nSilver Sneakers<br />\nSocial Security<br />\nAdministration<br />\nState of California Public<br />\nUtilities Commission<br />\nThe Prescription Shop<br />\nTherapeutic Massage<br />\nVarcious Vein Laser Center<br />\n&amp\; Med Spa<br />\nVirture Hearing Aid Center<br />\nYWCA<br />\n<br />\nCome and Enjoy<br />\nInformational Booths\, Screenings\,<br />\nGiveaways\,Raffle prizes\, Music and<br />\nFamily Fun!<br />\nThank you to our sponsor Heart of Compassion<br />\nDemos / Presentations<br />\nZumba Gold - 9:30 am-10 am<br />\nCardio Fit - 10 am - 10:30 am<br />\nVendors/Raffles - 10:30 am - 11:30 am<br />\nNutrition talk - 11:30 am - 11:45 am<br />\nStroke Survivor 11:45 am - 12 pm<br />\nRaffles - 12 pm - 12:15 pm
LOCATION:Montebello Senior Center 115 S. Taylor Ave. Montebello\, CA 90640
UID:e.1156.2888
SEQUENCE:3
DTSTAMP:20260419T185219Z
URL:https://www.montebellochamber.org/events/details/senior-health-fair-2888
END:VEVENT

END:VCALENDAR
