BEGIN:VCALENDAR
VERSION:2.0
PRODID:-//ChamberMaster//Event Calendar 2.0//EN
METHOD:PUBLISH
X-PUBLISHED-TTL:P3D
REFRESH-INTERVAL:P3D
CALSCALE:GREGORIAN
BEGIN:VEVENT
DTSTART:20140509T000000Z
DTEND:20140509T020000Z
X-MICROSOFT-CDO-ALLDAYEVENT:FALSE
SUMMARY:Service Masters & Elks Lodge Mixer
DESCRIPTION:Brokers\, Real estate agents\, Insurance agents\, and all chamber members are welcomed to meet and greet with local professionals in your industry.\n\nEnjoy complementary tacos  and discounted drinks.
X-ALT-DESC;FMTTYPE=text/html:Brokers\, Real estate agents\, Insurance agents\, and all chamber members are welcomed to meet and greet with local professionals in your industry.<br>\nEnjoy complementary tacos&nbsp\; and discounted drinks.<br>\n<br>\n<br>\n&nbsp\;
LOCATION:Elks Lodge 506 West Whittier Blvd\, Montebello CA 90640
UID:e.1156.990
SEQUENCE:3
DTSTAMP:20260419T143238Z
URL:https://www.montebellochamber.org/events/details/service-masters-elks-lodge-mixer-05-08-2014-990
END:VEVENT

END:VCALENDAR
