BEGIN:VCALENDAR
VERSION:2.0
PRODID:-//ChamberMaster//Event Calendar 2.0//EN
METHOD:PUBLISH
X-PUBLISHED-TTL:P3D
REFRESH-INTERVAL:P3D
CALSCALE:GREGORIAN
BEGIN:VEVENT
DTSTART:20191027T230000Z
DTEND:20191028T030000Z
X-MICROSOFT-CDO-ALLDAYEVENT:FALSE
SUMMARY:Service to Education Awards Dinner
DESCRIPTION:The Friends of Montebello Unified School District Foundation presents\n\nService to Education Awards Dinner\n\n"Promising Futures"\n\nHonoring Those Who Mentor Dreams\n\n\n\nCollege Bound Today\n\nAVID\n\nPathways to College and Career Success
X-ALT-DESC;FMTTYPE=text/html:The Friends of Montebello Unified School District Foundation presents<br />\nService to Education Awards Dinner<br />\n&quot\;Promising Futures&quot\;<br />\nHonoring Those Who Mentor Dreams<br />\n<br />\nCollege Bound Today<br />\nAVID<br />\nPathways to College and Career Success
LOCATION:Bagramian Hall 900 W. Lincoln Ave. Montebello\, CA 90640
UID:e.1156.3372
SEQUENCE:3
DTSTAMP:20260419T160027Z
URL:https://www.montebellochamber.org/events/details/service-to-education-awards-dinner-3372
END:VEVENT

END:VCALENDAR
