BEGIN:VCALENDAR
VERSION:2.0
PRODID:-//ChamberMaster//Event Calendar 2.0//EN
METHOD:PUBLISH
X-PUBLISHED-TTL:P3D
REFRESH-INTERVAL:P3D
CALSCALE:GREGORIAN
BEGIN:VEVENT
DTSTART:20181028T230000Z
DTEND:20181029T030000Z
X-MICROSOFT-CDO-ALLDAYEVENT:FALSE
SUMMARY:"Service to Education" Awards Dinner honoring Darline Robles & Darrell Heacock
DESCRIPTION:The Friends of the Montebello Unified School District (FMUSDF) cordinally invites you to attend the 2018 "Service to Education" Awards Dinner honoring Darline Robles and Darrell Heacock.
X-ALT-DESC;FMTTYPE=text/html:The Friends of the Montebello Unified School District (FMUSDF) cordinally invites you to attend the 2018 &quot\;Service to Education&quot\; Awards Dinner honoring Darline Robles and Darrell Heacock.&nbsp\;
LOCATION:Bagramian Hall 900 West Lincoln Ave Montebello\, CA 90640
UID:e.1156.2874
SEQUENCE:3
DTSTAMP:20260419T202420Z
URL:https://www.montebellochamber.org/events/details/service-to-education-awards-dinner-honoring-darline-robles-darrell-heacock-2874
END:VEVENT

END:VCALENDAR
