BEGIN:VCALENDAR
VERSION:2.0
PRODID:-//ChamberMaster//Event Calendar 2.0//EN
METHOD:PUBLISH
X-PUBLISHED-TTL:P3D
REFRESH-INTERVAL:P3D
CALSCALE:GREGORIAN
BEGIN:VEVENT
DTSTART:20130830T000000Z
DTEND:20130830T040000Z
X-MICROSOFT-CDO-ALLDAYEVENT:FALSE
SUMMARY:Shakeys Fundraiser for MHDC Programs
DESCRIPTION:MHDC invites you\, your family\, and Friends to join us for a Fundraiser\n\n	\n\n	COME OUT AND HELP US continue OUR PROGRAMS\n\n	 img src="https://fbcdn-sphotos-c-a.akamaihd.net/hphotos-ak-ash3/556765_714623818553930_1726805291_n.jpg" \n\n	\n\n	\n		Say "MHDC" at the cashier 20% will go towardsMHDC Programs\n\n\n	\n\n	\n		The 20% contribution is for your  total food purchase only and does not include beverages. Thank you for supporting MHDC and this fundrasiering effort!  We thank Shakeys pizza for collaborating with us!
X-ALT-DESC;FMTTYPE=text/html:<div>\n	MHDC invites you\, your family\, and Friends to join us for a Fundraiser<br />\n	<br />\n	COME OUT AND HELP US continue OUR PROGRAMS<br />\n	&lt\;img src=&quot\;https://fbcdn-sphotos-c-a.akamaihd.net/hphotos-ak-ash3/556765_714623818553930_1726805291_n.jpg&quot\;&gt\;<br />\n	<br />\n	<div>\n		Say &quot\;MHDC&quot\; at the cashier 20% will go towardsMHDC Programs</div>\n</div>\n<div>\n	<br />\n	<div>\n		The 20% contribution is for your &nbsp\;total food purchase only and does not include beverages. Thank you for supporting MHDC and this fundrasiering effort! &nbsp\;We thank Shakeys pizza for collaborating with us!</div>\n</div>\n<br />\n
LOCATION:1955 S Atlantic Blvd\, Monterey Park\, CA 91754
UID:e.1156.941
SEQUENCE:3
DTSTAMP:20260419T155913Z
URL:https://www.montebellochamber.org/events/details/shakeys-fundraiser-for-mhdc-programs-08-29-2013-941
END:VEVENT

END:VCALENDAR
