BEGIN:VCALENDAR
VERSION:2.0
PRODID:-//ChamberMaster//Event Calendar 2.0//EN
METHOD:PUBLISH
X-PUBLISHED-TTL:P3D
REFRESH-INTERVAL:P3D
CALSCALE:GREGORIAN
BEGIN:VEVENT
DTSTART;VALUE=DATE:20141218
DTEND;VALUE=DATE:20141219
TRANSP:TRANSPARENT
X-MICROSOFT-CDO-ALLDAYEVENT:TRUE
SUMMARY:Share-a-Holiday at Quiet Cannon
DESCRIPTION:Quiet Cannon Celebrates 2014 Share Holiday\n\nThursday\, December 18\, 2014\n\nLunch 11:00am - 4:00pm\n\nDinner 6:00pm - 12:00am\n\n \n\nDJ & Dancing ~ Raffle Prizes ~ Holiday Decorations ~ Cash Bar Service\n\n \n\nExtravagant Holiday Buffet\n\n \n\nMixed Field Greens with Raspberry Vinaigrette & Honey Mustard Dressing\n\nFruit and Berry Display\n\nTortellini Pasta Salad\n\nSeafood Dill Salad\n\nHerb Roasted Red Potato Salad\n\n \n\nChicken Dijon\n\nSalt & Rosemary Crusted Prime Rib Carving Station\n\nBasa White Fish\n\nPenne Pasta & Saut ed Vegetables\n\n \n\nRice Pilaf ~ Garlic Mashed Potatoes ~ Seasonal Vegetables\n\nRolls and Butter ~ Fresh Brewed Coffee & Decaffeinated Coffee & Fruit Punch\n\n \n\nHoliday Dessert Display\n\n  \n\nLunch Celebration\n\n11:00 am to 4:00 pm\n\n$18.83++ per person\n\nPrice Subject to Service Charges & Sales Tax\n\n($25.00 all inclusive)\n\n\n\nDinner Celebration\n\n6:00 pm to 12:00 am\n\n$23.34++ per person\n\nPrice Subject to Service Charge & Sales Tax\n\n($31.00 all inclusive)\n\n \n\nThe Shared Holiday Event is available for parties of 5 or more guests\n\nDeposits due upon booking\n\nFull Balance due Monday 12/15/2014 prior to event\n\nPlease contact the Catering Office for details & reservations at\n\n323-832-1300
X-ALT-DESC;FMTTYPE=text/html:<div style="text-align: center\;"><span style="font-size:20px\;"><span style="color:#FF0000\;"><u>Quiet Cannon Celebrates&nbsp\;2014 Share Holiday<br />\nThursday\, December 18\, 2014</u></span><br />\n<span style="color:#008000\;">Lunch 11:00am - 4:00pm<br />\nDinner 6:00pm - 12:00am</span></span><br />\n&nbsp\;<br />\nDJ &amp\; Dancing ~ Raffle Prizes ~ Holiday Decorations ~ Cash Bar Service<br />\n&nbsp\;<br />\nExtravagant Holiday Buffet<br />\n&nbsp\;<br />\nMixed Field Greens with Raspberry Vinaigrette &amp\; Honey Mustard Dressing<br />\nFruit and Berry Display<br />\nTortellini Pasta Salad<br />\nSeafood Dill Salad<br />\nHerb Roasted Red Potato Salad<br />\n&nbsp\;<br />\nChicken Dijon<br />\nSalt &amp\; Rosemary Crusted Prime Rib Carving Station<br />\nBasa White Fish<br />\nPenne Pasta &amp\; Saut&eacute\;ed Vegetables<br />\n&nbsp\;<br />\nRice Pilaf ~ Garlic Mashed Potatoes ~ Seasonal Vegetables<br />\nRolls and Butter ~ Fresh Brewed Coffee &amp\; Decaffeinated Coffee &amp\; Fruit Punch<br />\n&nbsp\;<br />\nHoliday Dessert Display<br />\n&nbsp\;&nbsp\;</div>\n\n<div style="text-align: center\;"><span style="font-size:20px\;"><u><strong>Lunch Celebration<br />\n11:00 am to 4:00 pm</strong></u></span><br />\n$18.83++ per person<br />\nPrice Subject to Service Charges &amp\; Sales Tax<br />\n($25.00 all inclusive)</div>\n\n<div style="text-align: center\;"><br />\n<span style="font-size:20px\;"><u><strong>Dinner Celebration<br />\n6:00 pm to 12:00 am</strong></u></span><br />\n$23.34++ per person<br />\nPrice Subject to Service Charge &amp\; Sales Tax<br />\n($31.00 all inclusive)<br />\n&nbsp\;<br />\nThe Shared Holiday Event is available for parties of 5 or more guests<br />\nDeposits due upon booking<br />\nFull Balance due Monday 12/15/2014 prior to event<br />\nPlease contact the Catering Office for details &amp\; reservations at<br />\n323-832-1300</div>\n
LOCATION:Quiet Cannon Montebello
UID:e.1156.1080
SEQUENCE:3
DTSTAMP:20260419T130430Z
URL:https://www.montebellochamber.org/events/details/share-a-holiday-at-quiet-cannon-12-18-2014-1080
END:VEVENT

END:VCALENDAR
