BEGIN:VCALENDAR
VERSION:2.0
PRODID:-//ChamberMaster//Event Calendar 2.0//EN
METHOD:PUBLISH
X-PUBLISHED-TTL:P3D
REFRESH-INTERVAL:P3D
CALSCALE:GREGORIAN
BEGIN:VEVENT
DTSTART:20190323T220000Z
DTEND:20190324T010000Z
X-MICROSOFT-CDO-ALLDAYEVENT:FALSE
SUMMARY:Skate Competition-Montebello Skate Park
DESCRIPTION:SKATE COMPETITION Hosted by City of Montebello Recreation & Community Services.
X-ALT-DESC;FMTTYPE=text/html:SKATE COMPETITION Hosted by City of Montebello Recreation &amp\; Community Services.&nbsp\;
LOCATION:Montebello Park 1300 W. Whittier Blvd. Montebello\, CA 90640
UID:e.1156.3262
SEQUENCE:3
DTSTAMP:20260419T172852Z
URL:https://www.montebellochamber.org/events/details/skate-competition-montebello-skate-park-3262
END:VEVENT

END:VCALENDAR
