BEGIN:VCALENDAR
VERSION:2.0
PRODID:-//ChamberMaster//Event Calendar 2.0//EN
METHOD:PUBLISH
X-PUBLISHED-TTL:P3D
REFRESH-INTERVAL:P3D
CALSCALE:GREGORIAN
BEGIN:VEVENT
DTSTART:20190605T150000Z
DTEND:20190605T200000Z
X-MICROSOFT-CDO-ALLDAYEVENT:FALSE
SUMMARY:Small Business Expo
DESCRIPTION:Supervisor Hilda L. Solis presents\n\n2019 San Gabriel Valley Small Business Expo\n\n\n\nLearn valuable information on how to do business with Los Angeles County!\n\n\n\nEvent features:\n\n	Workshops on government contracts\, accessing capital\, and business marketing\n	Onsite County vendor registration and contracting opportunities\n	Onsite business counseling\n\nBreakfast and lunch will be provided.  Limited seating.  Advance registration required.  Bring you W9 to become a County vendor online.
X-ALT-DESC;FMTTYPE=text/html:Supervisor Hilda L. Solis presents<br>\n2019 San Gabriel Valley Small Business Expo<br>\n<br>\nLearn valuable information on how to do business with Los Angeles County!<br>\n<br>\nEvent features:\n<ul>\n	<li>Workshops on government contracts\, accessing capital\, and business marketing</li>\n	<li>Onsite County vendor registration and contracting opportunities</li>\n	<li>Onsite business counseling</li>\n</ul>\nBreakfast and lunch will be provided.&nbsp\; Limited seating.&nbsp\; Advance registration required.&nbsp\; Bring you W9 to become a County vendor online.
LOCATION:Hacienda-La Puente Adult School 14101 E. Nelson Ave. La Puente\, CA 91746
UID:e.1156.3320
SEQUENCE:3
DTSTAMP:20260419T130142Z
URL:https://www.montebellochamber.org/events/details/small-business-expo-3320
END:VEVENT

END:VCALENDAR
