BEGIN:VCALENDAR
VERSION:2.0
PRODID:-//ChamberMaster//Event Calendar 2.0//EN
METHOD:PUBLISH
X-PUBLISHED-TTL:P3D
REFRESH-INTERVAL:P3D
CALSCALE:GREGORIAN
BEGIN:VEVENT
DTSTART:20121108T180000Z
DTEND:20121109T010000Z
X-MICROSOFT-CDO-ALLDAYEVENT:FALSE
SUMMARY:Small Business Expo - Los Angeles
DESCRIPTION:Small Business Expo - Los Angeles is THE most anticipated networking event\, trade show & conference of the year for business owners\, C-Level Executives & company decision-makers.\n\n	\n\n	Small Business Expo - Los Angeles is an exciting event opportunity to learn about products & services in the exhibitor hall to help businesses grow\, network with other industry professionals & attend informative and cutting-edge workshops & seminars. If you are an Owner\, President\, CEO\, CFO\, CMO\, COO\, Director\, Financial Services Representative\, Partner\, Marketing Professional\, Business Development Executive\, Sales Executive\, Vice President\, or any member of Senior Management at your company\, you must attend this trade show & conference.\n\n	\n\n	Your competition will be at Small Business Expo.....will you be there?  If your product/service targets small business owners\, exhibiting at this show is a necessity.  Nowhere else can you speak with so many of your perfect target market face-to-face and make on-the-spot sales!
X-ALT-DESC;FMTTYPE=text/html:<p class="MsoNormal" style="margin: 0px\; font-family: arial\, sans-serif\; color: rgb(80\,0\,80)\; font-size: 13px">\n	<b>Small Business Expo - Los Angeles&nbsp\;</b>is THE most anticipated networking event\, trade show &amp\; conference of the year for business owners\, C-Level Executives &amp\; company decision-makers.<br />\n	<br />\n	<b>Small Business Expo - Los Angeles</b>&nbsp\;is an exciting event opportunity to learn about products &amp\; services in the exhibitor hall to help businesses grow\, network with other industry professionals &amp\; attend informative and cutting-edge workshops &amp\; seminars. If you are an Owner\, President\, CEO\, CFO\,&nbsp\;<span style="background-color: yellow">CMO</span>\, COO\, Director\, Financial Services Representative\, Partner\, Marketing Professional\, Business Development Executive\, Sales Executive\, Vice President\, or any member of Senior Management at your company\, you must attend this trade show &amp\; conference.</p>\n<p class="MsoNormal" style="margin: 0px\; font-family: arial\, sans-serif\; color: rgb(80\,0\,80)\; font-size: 13px">\n	<br />\n	Your competition will be at Small Business Expo.....will you be there?&nbsp\;&nbsp\;If your product/service targets small business owners\, exhibiting at this show is a necessity.&nbsp\;&nbsp\;Nowhere else can you speak with so many of your perfect target market face-to-face and make on-the-spot sales!</p>\n
LOCATION:California Market Center (The CMC) - Penthouse Floor 110 East Ninth Street Los Angeles\, CA 90079
UID:e.1156.649
SEQUENCE:3
DTSTAMP:20260419T215601Z
URL:https://www.montebellochamber.org/events/details/small-business-expo-los-angeles-11-08-2012-649
END:VEVENT

END:VCALENDAR
