BEGIN:VCALENDAR
VERSION:2.0
PRODID:-//ChamberMaster//Event Calendar 2.0//EN
METHOD:PUBLISH
X-PUBLISHED-TTL:P3D
REFRESH-INTERVAL:P3D
CALSCALE:GREGORIAN
BEGIN:VEVENT
DTSTART:20191221T190000Z
DTEND:20191221T230000Z
X-MICROSOFT-CDO-ALLDAYEVENT:FALSE
SUMMARY:Snow in the Park
DESCRIPTION:The City of Montebello Department of Recreation and Community Services presents Snow in the Park!  Come experience snow in Montebello for one day!  Slide down a snowy hill and play in a white wonderland at Montebello City Park!
X-ALT-DESC;FMTTYPE=text/html:<p>The City of Montebello Department of Recreation and Community Services presents Snow in the Park!&nbsp\; Come experience snow in Montebello for one day!&nbsp\; Slide down a snowy hill and play in a white wonderland at Montebello City Park!</p>\n
LOCATION:Montebello City Park 1301 W. Whittier Blvd. Montebello\, CA 90640
UID:e.1156.3534
SEQUENCE:3
DTSTAMP:20260419T143334Z
URL:https://www.montebellochamber.org/events/details/snow-in-the-park-12-21-2019-3534
END:VEVENT

END:VCALENDAR
