BEGIN:VCALENDAR
VERSION:2.0
PRODID:-//ChamberMaster//Event Calendar 2.0//EN
METHOD:PUBLISH
X-PUBLISHED-TTL:P3D
REFRESH-INTERVAL:P3D
CALSCALE:GREGORIAN
BEGIN:VEVENT
DTSTART:20181208T190000Z
DTEND:20181208T230000Z
X-MICROSOFT-CDO-ALLDAYEVENT:FALSE
SUMMARY:Snow in the Park 2018- City of Montebello
DESCRIPTION:Snow in the Park 2018!\n\nSnow in Montebello\, Pictures with Santa\, Games\, Jumpers\, Train Rides\, face painting\, live music and more!\n\nHosted by City of Montebello Recreation and Community Services
X-ALT-DESC;FMTTYPE=text/html:Snow in the Park 2018!<br />\n<span style="color: rgb(29\, 33\, 41)\; font-family: Helvetica\, Arial\, sans-serif\; font-size: 14px\; background-color: rgb(255\, 255\, 255)\;">Snow in Montebello\, Pictures with Santa\, Games\, Jumpers\, Train Rides\, face painting\, live music and more!<br />\nHosted by City of Montebello Recreation and Community Services</span>
LOCATION:Montebello City Park 1301 W. Whittier Blvd. Montebello\, CA 90640
UID:e.1156.3105
SEQUENCE:3
DTSTAMP:20260419T160813Z
URL:https://www.montebellochamber.org/events/details/snow-in-the-park-2018-city-of-montebello-3105
END:VEVENT

END:VCALENDAR
