BEGIN:VCALENDAR
VERSION:2.0
PRODID:-//ChamberMaster//Event Calendar 2.0//EN
METHOD:PUBLISH
X-PUBLISHED-TTL:P3D
REFRESH-INTERVAL:P3D
CALSCALE:GREGORIAN
BEGIN:VEVENT
DTSTART:20180427T010000Z
DTEND:20180427T033000Z
X-MICROSOFT-CDO-ALLDAYEVENT:FALSE
SUMMARY:Social Media Workshop
DESCRIPTION:No-Cost Workshop presented by SCORE in cooperation with the Montebello Chamber of Commerce\n\n \nCreating Content for Your Social Media:\n\nPhotos\, DIY Video and Graphics\, Up Your Game with Visuals!\n\nWith Apps and Filters your images can look amazing!!!\n \n\nCreate amazing\, "shareable" photos\, graphics and DIY video for your social media marketing!  You will learn how to create beautiful images  and even easy DIY video for your business. Using apps and my helpful tips\, your images and video can look polished and professional! Plus\, filters for your images AND video!\n\n\n\nWhat we will cover:\n\n\n	Why you should use video as content.\n	Filters and Apps\, how to use them to easily up your game \n	See how to easily create great graphics and images\n	Best tips on how to share!\n	Lighting and layout tips for photos\n	Latest visual trends and how to apply to YOUR business\n\n \n\nPresented by  Roni Ramos\, President and Founder of Harmony 3 Productions:\nAttendees rave about her presentations where she shares tips\, tools\, techniques and actionable steps to use graphics and video to polish your online marketing  \n\nRoni is a great cheerleader to get small businesses excited about using the new technologies available to market their business. Join us this is going to be fun!
X-ALT-DESC;FMTTYPE=text/html:No-Cost Workshop presented by SCORE in cooperation with the Montebello Chamber of Commerce<br />\n&nbsp\;\n<div style="text-align: center\;"><strong><span style="background:white\;"><span style="font-family:helvetica\,sans-serif\;">Creating Content for Your Social Media:<br />\nPhotos\, DIY Video and Graphics\, Up Your Game with Visuals!<br />\nWith Apps and Filters your images can look amazing!!!</span></span></strong></div>\n&nbsp\;<br />\n<span style="font-size:10.5pt\;"><span style="font-kerning:none\;">Create amazing\, &ldquo\;shareable&rdquo\; photos\, graphics and DIY video for your social media marketing!&nbsp\; </span></span><span style="font-size:10.5pt\;"><span style="font-kerning:none\;">You will learn how to create beautiful images &nbsp\;and even easy DIY video for your business. Using apps and my helpful tips\, your images and video can look polished and professional! Plus\, filters for your images AND video!</span></span><br />\n<br />\n<strong><span style="font-size:10.5pt\;"><span style="font-kerning:none\;">What we will cover:</span></span></strong>\n\n<ul>\n	<li><span style="font-size:10.5pt\;"><span style="font-kerning:none\;">Why you should use video as content.</span></span></li>\n	<li><span style="font-size:10.5pt\;"><span style="font-kerning:none\;">Filters and Apps\, how to use them to easily up your game&hellip\;</span></span></li>\n	<li style="-webkit-text-stroke-color:rgb(0\, 0\, 0)\;-webkit-text-stroke-width:initial\;"><span style="font-kerning:none\;"><span style="font-size:10.5pt\;">See how to easily create great graphics and images</span></span></li>\n	<li style="-webkit-text-stroke-color:rgb(0\, 0\, 0)\;-webkit-text-stroke-width:initial\;"><span style="font-kerning:none\;"><span style="font-size:10.5pt\;">Best tips on how to share!</span></span></li>\n	<li style="-webkit-text-stroke-color:rgb(0\, 0\, 0)\;-webkit-text-stroke-width:initial\;"><span style="font-kerning:none\;"><span style="font-size:10.5pt\;">Lighting and layout tips for photos</span></span></li>\n	<li style="-webkit-text-stroke-color:rgb(0\, 0\, 0)\;-webkit-text-stroke-width:initial\;"><span style="font-kerning:none\;"><span style="font-size:10.5pt\;">Latest visual trends and how to apply to YOUR business</span></span></li>\n</ul>\n&nbsp\;<br />\nPresented by &nbsp\;Roni Ramos\, President and Founder of Harmony 3 Productions:\n<p style="margin-left:.5in"><span style="font-family:helvetica\,sans-serif\;"><span style="font-size:10.5pt\;">Attendees rave about her presentations&nbsp\;where she shares tips\, tools\, techniques and actionable steps to use graphics&nbsp\;and video to polish your online marketing&hellip\;&nbsp\;</span></span><br />\n<span style="font-family:helvetica\,sans-serif\;"><span style="font-size:10.5pt\;"><span style="font-kerning:none\;">Roni is a great cheerleader to get small businesses excited about using the&nbsp\;new technologies available to market their business. </span></span></span><span style="font-family:helvetica\,sans-serif\;"><span style="font-size:10.5pt\;"><span style="font-kerning:none\;">Join us this is going to be fun!</span></span></span><br />\n&nbsp\;</p>\n
LOCATION:Conference Room - Montebello Chamber of Commerce 109 N. 19th St. Montebello\, CA 90640
UID:e.1156.2476
SEQUENCE:3
DTSTAMP:20260419T143028Z
URL:https://www.montebellochamber.org/events/details/social-media-workshop-2476
END:VEVENT

END:VCALENDAR
