BEGIN:VCALENDAR
VERSION:2.0
PRODID:-//ChamberMaster//Event Calendar 2.0//EN
METHOD:PUBLISH
X-PUBLISHED-TTL:P3D
REFRESH-INTERVAL:P3D
CALSCALE:GREGORIAN
BEGIN:VEVENT
DTSTART:20180411T150000Z
DTEND:20180411T163000Z
X-MICROSOFT-CDO-ALLDAYEVENT:FALSE
SUMMARY:Sold Out Networking Breakfast 3.0 - Bicycle Hotel & Casino (Apr 2018)
DESCRIPTION:**Sold Out - No Walk In's Will Be Allowed** Pre-registration is closed. \n\n\n\nJoin the staff\, members and guests at our networking breakfast with FIVE Chambers of Commerce--Montebello\, Bell Gardens\, Pico Rivera\, Commerce\, Santa Fe Springs -- for a morning networking event featuring a full breakfast\, raffle prizes and more!
X-ALT-DESC;FMTTYPE=text/html:<span style="color: rgb(51\, 51\, 51)\; font-family: sans-serif\, Arial\, Verdana\, &quot\;Trebuchet MS&quot\;\; font-size: 13px\; background-color: rgb(255\, 255\, 255)\;">**Sold Out - No Walk In&#39\;s Will Be Allowed**&nbsp\;</span>Pre-registration is closed.&nbsp\;<br />\n<br />\nJoin the staff\, members and guests at our networking breakfast with FIVE Chambers of Commerce--Montebello\, Bell Gardens\, Pico Rivera\, Commerce\, Santa Fe Springs --&nbsp\;for a morning networking event featuring a full breakfast\, raffle prizes and more!&nbsp\;&nbsp\;<br />\n&nbsp\;
LOCATION:Bicycle Hotel and Casino 888 Bicycle Casino Dr. Bell Gardens\, CA 90201
UID:e.1156.2409
SEQUENCE:3
DTSTAMP:20260419T143646Z
URL:https://www.montebellochamber.org/events/details/sold-out-networking-breakfast-3-0-bicycle-hotel-casino-apr-2018-2409
END:VEVENT

END:VCALENDAR
