BEGIN:VCALENDAR
VERSION:2.0
PRODID:-//ChamberMaster//Event Calendar 2.0//EN
METHOD:PUBLISH
X-PUBLISHED-TTL:P3D
REFRESH-INTERVAL:P3D
CALSCALE:GREGORIAN
BEGIN:VEVENT
DTSTART:20180509T150000Z
DTEND:20180509T163000Z
X-MICROSOFT-CDO-ALLDAYEVENT:FALSE
SUMMARY:Sold Out! - Networking Breakfast 3.0 Quiet Cannon
DESCRIPTION:**Sold Out - No Walk In's Will Be Allowed** Pre-registration is closed. \n\n\n\nNetworking Breakfast 3.0 at the Quiet Cannon!\n\nJoin the staff\, members and guests at our networking breakfast with THREE Chambers of Commerce--Montebello\, Bell Gardens\, Pico Rivera-- for a morning networking event featuring a full breakfast\, raffle prizes and more!  For extra exposure at the event or if you can't make it in person\, consider donating a prize for the morning's raffle!   Bring plenty of business cards.
X-ALT-DESC;FMTTYPE=text/html:**Sold Out - No Walk In&#39\;s Will Be Allowed**&nbsp\;Pre-registration is closed.&nbsp\;<br />\n<br />\nNetworking Breakfast 3.0 at the Quiet Cannon!<br />\nJoin the staff\, members and guests at our networking breakfast with THREE Chambers of Commerce--Montebello\, Bell Gardens\, Pico Rivera-- for a morning networking event featuring a full breakfast\, raffle prizes and more!&nbsp\; For extra exposure at the event or if you can&#39\;t make it in person\, consider donating a prize for the morning&#39\;s raffle!&nbsp\; &nbsp\;Bring plenty of business cards.<br />\n&nbsp\;
LOCATION:Quiet Cannon - Skyview Room (Closest to the Hilton Garden Inn) 901 Via San Clemente Montebello\, CA 90640
UID:e.1156.2498
SEQUENCE:3
DTSTAMP:20260419T160112Z
URL:https://www.montebellochamber.org/events/details/sold-out-networking-breakfast-3-0-quiet-cannon-2498
END:VEVENT

END:VCALENDAR
